BEGIN:VCALENDAR
VERSION:2.0
PRODID:-//wp-events-plugin.com//7.2.3.1//EN
BEGIN:VEVENT
UID:29@melbournewelshchoir.com.au
DTSTART;TZID=Australia/Melbourne:20251206T143000
DTEND;TZID=Australia/Melbourne:20251206T163000
DTSTAMP:20251115T051029Z
URL:https://melbournewelshchoir.com.au/events/wonthaggi-concert/
SUMMARY:Wonthaggi Concert
DESCRIPTION:A Christmas special event featuring at the Union Theatre.
 Having wowed audiences in Wonthaggi last year\, the Melbourne Welsh Male
 Choir are back due to popular demand! Click here for tickets.
LOCATION:Wonthaggi Union Community Arts Centre\, 96 Graham Street\,
 Wonthaggi\, Victoria\, 3995\, Australia
X-APPLE-STRUCTURED-LOCATION;VALUE=URI;X-ADDRESS=96 Graham Street\,
 Wonthaggi\, Victoria\, 3995\,
 Australia;X-APPLE-RADIUS=100;X-TITLE=Wonthaggi Union Community Arts
 Centre:geo:0,0
END:VEVENT
BEGIN:VTIMEZONE
TZID:Australia/Melbourne
X-LIC-LOCATION:Australia/Melbourne
BEGIN:DAYLIGHT
DTSTART:20251005T030000
TZOFFSETFROM:+1000
TZOFFSETTO:+1100
TZNAME:AEDT
END:DAYLIGHT
END:VTIMEZONE
END:VCALENDAR