BEGIN:VCALENDAR
VERSION:2.0
PRODID:-//wp-events-plugin.com//7.2.3.1//EN
BEGIN:VEVENT
UID:22@melbournewelshchoir.com.au
DTSTART;TZID=Australia/Melbourne:20250920T140000
DTEND;TZID=Australia/Melbourne:20250920T163000
DTSTAMP:20251025T124708Z
URL:https://melbournewelshchoir.com.au/events/singer-of-the-year-final-con
 cert/
SUMMARY:Singer Of The Year Final Concert
DESCRIPTION:We are pleased to present the final of our Singer of the Year
 Competition\, proudly supported by the Robert Salzer Foundation.\n\nJoin
 the Melbourne Welsh Male Choir and the three finalists of our Singer of the
 Year Competition in concert.\n\nClick here for tickets - early bird tickets
 are available.\n\n&nbsp\;
LOCATION:Carey Baptist Grammar School's De Young Centre for Performing
 Arts\, 349 Barkers Road\, Kew\, Victoria\, 3101\, Australia
X-APPLE-STRUCTURED-LOCATION;VALUE=URI;X-ADDRESS=349 Barkers Road\, Kew\,
 Victoria\, 3101\, Australia;X-APPLE-RADIUS=100;X-TITLE=Carey Baptist
 Grammar School's De Young Centre for Performing Arts:geo:0,0
END:VEVENT
BEGIN:VTIMEZONE
TZID:Australia/Melbourne
X-LIC-LOCATION:Australia/Melbourne
BEGIN:STANDARD
DTSTART:20250406T020000
TZOFFSETFROM:+1100
TZOFFSETTO:+1000
TZNAME:AEST
END:STANDARD
END:VTIMEZONE
END:VCALENDAR