BEGIN:VCALENDAR
VERSION:2.0
PRODID:-//wp-events-plugin.com//7.2.3.1//EN
BEGIN:VEVENT
UID:34@melbournewelshchoir.com.au
DTSTART;TZID=Australia/Melbourne:20260512T103000
DTEND;TZID=Australia/Melbourne:20260512T123000
DTSTAMP:20260313T064150Z
URL:https://melbournewelshchoir.com.au/events/morning-melodies-at-karralyk
 a-2/
SUMMARY:Morning Melodies at Karralyka
DESCRIPTION:We return again for a wonderful morning of music in the
 Karralyka Function Centre.\n\nTo book tickets please visit the Karralyka
 ticketing site - Click here for tickets.\n\nUnfortunately this event is
 sold out but you can use the above link to find the event and join the
 waitlist.
LOCATION:Karralyka Centre\, Mines Road\, Ringwood\, Victoria\, 3134\,
 Australia
X-APPLE-STRUCTURED-LOCATION;VALUE=URI;X-ADDRESS=Mines Road\, Ringwood\,
 Victoria\, 3134\, Australia;X-APPLE-RADIUS=100;X-TITLE=Karralyka
 Centre:geo:0,0
END:VEVENT
BEGIN:VTIMEZONE
TZID:Australia/Melbourne
X-LIC-LOCATION:Australia/Melbourne
BEGIN:STANDARD
DTSTART:20260405T020000
TZOFFSETFROM:+1100
TZOFFSETTO:+1000
TZNAME:AEST
END:STANDARD
END:VTIMEZONE
END:VCALENDAR