BEGIN:VCALENDAR
VERSION:2.0
PRODID:-//wp-events-plugin.com//7.2.3.1//EN
BEGIN:VEVENT
UID:21@melbournewelshchoir.com.au
DTSTART;TZID=Australia/Melbourne:20250726T150000
DTEND;TZID=Australia/Melbourne:20250726T170000
DTSTAMP:20250513T095408Z
URL:https://melbournewelshchoir.com.au/events/mooroolbark-july-concert/
SUMMARY:Mooroolbark July Concert
DESCRIPTION:We are back at the Mooroolbark Community Centre for another
 great concert.\n\nClick here to book tickets.
LOCATION:Mooroolbark Community Centre\, Mooroolbark Community Centre\, 125
 Brice Ave\, Mooroolbark\, Victoria\, 3138\, Melbourne\, Australia
X-APPLE-STRUCTURED-LOCATION;VALUE=URI;X-ADDRESS=Mooroolbark Community
 Centre\, 125 Brice Ave\, Mooroolbark\, Victoria\, 3138\, Melbourne\,
 Australia;X-APPLE-RADIUS=100;X-TITLE=Mooroolbark Community Centre:geo:0,0
END:VEVENT
BEGIN:VTIMEZONE
TZID:Australia/Melbourne
X-LIC-LOCATION:Australia/Melbourne
BEGIN:STANDARD
DTSTART:20250406T020000
TZOFFSETFROM:+1100
TZOFFSETTO:+1000
TZNAME:AEST
END:STANDARD
END:VTIMEZONE
END:VCALENDAR