BEGIN:VCALENDAR
VERSION:2.0
PRODID:-//wp-events-plugin.com//7.2.3.1//EN
BEGIN:VEVENT
UID:28@melbournewelshchoir.com.au
DTSTART;TZID=Australia/Melbourne:20251213T140000
DTEND;TZID=Australia/Melbourne:20251213T161500
DTSTAMP:20251115T051101Z
URL:https://melbournewelshchoir.com.au/events/christmas-concert-2/
SUMMARY:Christmas Concert
DESCRIPTION:The renowned Melbourne Welsh Male Choir invites you to our
 annual Christmas Concert. Our choir sings in the Welsh choral tradition
 known to local and international audiences and adding stirring contemporary
 and familiar festive pieces for you to sing along to. We're joined by
 stunning soloists too who'll add to the joy of celebrating Christmas. Click
 here to book tickets.
LOCATION:St Alfred's Anglican Church\, 107 Springfield Rd\, Blackburn
 North\, Victoria\, 3130\, Australia
X-APPLE-STRUCTURED-LOCATION;VALUE=URI;X-ADDRESS=107 Springfield Rd\,
 Blackburn North\, Victoria\, 3130\, Australia;X-APPLE-RADIUS=100;X-TITLE=St
 Alfred's Anglican Church:geo:0,0
END:VEVENT
BEGIN:VTIMEZONE
TZID:Australia/Melbourne
X-LIC-LOCATION:Australia/Melbourne
BEGIN:DAYLIGHT
DTSTART:20251005T030000
TZOFFSETFROM:+1000
TZOFFSETTO:+1100
TZNAME:AEDT
END:DAYLIGHT
END:VTIMEZONE
END:VCALENDAR