BEGIN:VCALENDAR
VERSION:2.0
PRODID:-//wp-events-plugin.com//7.2.3.1//EN
BEGIN:VEVENT
UID:32@melbournewelshchoir.com.au
DTSTART;TZID=Australia/Melbourne:20260301T143000
DTEND;TZID=Australia/Melbourne:20260301T163000
DTSTAMP:20260101T012533Z
URL:https://melbournewelshchoir.com.au/events/celebrate-st-davids-day-2026
 -with-the-melbourne-welsh/
SUMMARY:Celebrate St David's Day 2026 with the Melbourne Welsh
DESCRIPTION:The Melbourne Welsh Male Voice Choir is proud to present our
 2026 St David’s Day Concert in celebration of the Welsh National Day.We
 invite you to join us on Sunday 1st March at 2.30 pm in the Ian Woolf
 Auditorium\, Carey Grammar School\, 349 Barkers Rd Kew 3101 for an
 afternoon of Welsh and Popular Choral singing\, featuring Welsh
 Mezzo-soprano Erin Fflur.Click here to book tickets.		\n															
LOCATION:Carey Baptist Grammar School's De Young Centre for Performing
 Arts\, 349 Barkers Road\, Kew\, Victoria\, 3101\, Australia
X-APPLE-STRUCTURED-LOCATION;VALUE=URI;X-ADDRESS=349 Barkers Road\, Kew\,
 Victoria\, 3101\, Australia;X-APPLE-RADIUS=100;X-TITLE=Carey Baptist
 Grammar School's De Young Centre for Performing Arts:geo:0,0
END:VEVENT
BEGIN:VTIMEZONE
TZID:Australia/Melbourne
X-LIC-LOCATION:Australia/Melbourne
BEGIN:DAYLIGHT
DTSTART:20251005T030000
TZOFFSETFROM:+1000
TZOFFSETTO:+1100
TZNAME:AEDT
END:DAYLIGHT
END:VTIMEZONE
END:VCALENDAR